BEGIN:VCALENDAR
VERSION:2.0
PRODID:-//HO ETSU TAIKO - ECPv6.15.20//NONSGML v1.0//EN
CALSCALE:GREGORIAN
METHOD:PUBLISH
X-WR-CALNAME:HO ETSU TAIKO
X-ORIGINAL-URL:https://www.hoetsu.org
X-WR-CALDESC:Events for HO ETSU TAIKO
REFRESH-INTERVAL;VALUE=DURATION:PT1H
X-Robots-Tag:noindex
X-PUBLISHED-TTL:PT1H
BEGIN:VTIMEZONE
TZID:America/Chicago
BEGIN:DAYLIGHT
TZOFFSETFROM:-0600
TZOFFSETTO:-0500
TZNAME:CDT
DTSTART:20230312T080000
END:DAYLIGHT
BEGIN:STANDARD
TZOFFSETFROM:-0500
TZOFFSETTO:-0600
TZNAME:CST
DTSTART:20231105T070000
END:STANDARD
BEGIN:DAYLIGHT
TZOFFSETFROM:-0600
TZOFFSETTO:-0500
TZNAME:CDT
DTSTART:20240310T080000
END:DAYLIGHT
BEGIN:STANDARD
TZOFFSETFROM:-0500
TZOFFSETTO:-0600
TZNAME:CST
DTSTART:20241103T070000
END:STANDARD
BEGIN:DAYLIGHT
TZOFFSETFROM:-0600
TZOFFSETTO:-0500
TZNAME:CDT
DTSTART:20250309T080000
END:DAYLIGHT
BEGIN:STANDARD
TZOFFSETFROM:-0500
TZOFFSETTO:-0600
TZNAME:CST
DTSTART:20251102T070000
END:STANDARD
END:VTIMEZONE
BEGIN:VTIMEZONE
TZID:America/Chicago
BEGIN:DAYLIGHT
TZOFFSETFROM:-0600
TZOFFSETTO:-0500
TZNAME:CDT
DTSTART:20190310T080000
END:DAYLIGHT
BEGIN:STANDARD
TZOFFSETFROM:-0500
TZOFFSETTO:-0600
TZNAME:CST
DTSTART:20191103T070000
END:STANDARD
BEGIN:DAYLIGHT
TZOFFSETFROM:-0600
TZOFFSETTO:-0500
TZNAME:CDT
DTSTART:20200308T080000
END:DAYLIGHT
BEGIN:STANDARD
TZOFFSETFROM:-0500
TZOFFSETTO:-0600
TZNAME:CST
DTSTART:20201101T070000
END:STANDARD
BEGIN:DAYLIGHT
TZOFFSETFROM:-0600
TZOFFSETTO:-0500
TZNAME:CDT
DTSTART:20210314T080000
END:DAYLIGHT
BEGIN:STANDARD
TZOFFSETFROM:-0500
TZOFFSETTO:-0600
TZNAME:CST
DTSTART:20211107T070000
END:STANDARD
END:VTIMEZONE
BEGIN:VTIMEZONE
TZID:America/New_York
BEGIN:DAYLIGHT
TZOFFSETFROM:-0500
TZOFFSETTO:-0400
TZNAME:EDT
DTSTART:20190310T070000
END:DAYLIGHT
BEGIN:STANDARD
TZOFFSETFROM:-0400
TZOFFSETTO:-0500
TZNAME:EST
DTSTART:20191103T060000
END:STANDARD
BEGIN:DAYLIGHT
TZOFFSETFROM:-0500
TZOFFSETTO:-0400
TZNAME:EDT
DTSTART:20200308T070000
END:DAYLIGHT
BEGIN:STANDARD
TZOFFSETFROM:-0400
TZOFFSETTO:-0500
TZNAME:EST
DTSTART:20201101T060000
END:STANDARD
BEGIN:DAYLIGHT
TZOFFSETFROM:-0500
TZOFFSETTO:-0400
TZNAME:EDT
DTSTART:20210314T070000
END:DAYLIGHT
BEGIN:STANDARD
TZOFFSETFROM:-0400
TZOFFSETTO:-0500
TZNAME:EST
DTSTART:20211107T060000
END:STANDARD
END:VTIMEZONE
BEGIN:VEVENT
DTSTART;TZID=America/Chicago:20241109T193000
DTEND;TZID=America/Chicago:20241109T203000
DTSTAMP:20260424T223113
CREATED:20241024T001941Z
LAST-MODIFIED:20241024T002009Z
UID:21918-1731180600-1731184200@www.hoetsu.org
SUMMARY:Concert - First Presbyterian Church Performing Arts Series - November 9
DESCRIPTION:Ho Etsu will perform in concert at the First Presbyterian Church Performing Arts Series on November 9 in Davenport\, Iowa.\nNOVEMBER 9th\, at 7:30 pm\nFirst Presbyterian Church\n1702 Iowa St.\nDavenport\, IA 52803\nfor tickets (adults and student prices) follow the link below\nFPC Performing Arts Series Tickets
URL:https://www.hoetsu.org/event/fbc-pas-nov-9/
LOCATION:First Presbyterian Church\, 1702 Iowa St.\, Davenport\, United States
CATEGORIES:Concert,Performance
END:VEVENT
BEGIN:VEVENT
DTSTART;TZID=America/Chicago:20201017T193000
DTEND;TZID=America/Chicago:20201017T213000
DTSTAMP:20260424T223113
CREATED:20200114T203554Z
LAST-MODIFIED:20200828T183349Z
UID:20592-1602963000-1602970200@www.hoetsu.org
SUMMARY:POSTPONED - "EMERGENT" - Davenport\, IA
DESCRIPTION:[vc_row css_animation=”” row_type=”row” use_row_as_full_screen_section=”no” type=”full_width” angled_section=”no” text_align=”left” background_image_as_pattern=”without_pattern”][vc_column][vc_row_inner row_type=”row” type=”full_width” text_align=”left” css_animation=””][vc_column_inner][/vc_column_inner][/vc_row_inner][/vc_column][/vc_row][vc_row css_animation=”” row_type=”row” use_row_as_full_screen_section=”no” type=”full_width” angled_section=”no” text_align=”left” background_image_as_pattern=”without_pattern”][vc_column][vc_row_inner row_type=”row” type=”full_width” text_align=”left” css_animation=””][vc_column_inner][vc_separator type=”transparent”][vc_column_text] \nHO ETSU TAIKO\n[/vc_column_text][vc_single_image image=”20606″ img_size=”600×225″ alignment=”center” qode_css_animation=””][vc_column_text] \nDavenport\, IA\n[/vc_column_text][vc_empty_space height=”20px”][vc_column_text][/vc_column_text][vc_empty_space height=”20px”][vc_column_text][/vc_column_text][vc_separator type=”small” position=”center” color=”#732121″ thickness=”1″ up=”20″ down=”25″][vc_column_text][/vc_column_text][vc_column_text] \nNOTE: This concert has been postponed and will be rescheduled at a later date.\n[/vc_column_text][vc_column_text][/vc_column_text][vc_empty_space height=”25px”][vc_single_image image=”20625″ img_size=”200×117″ alignment=”center” qode_css_animation=””][vc_empty_space height=”25px”][/vc_column_inner][/vc_row_inner][/vc_column][/vc_row][vc_row css_animation=”” row_type=”row” use_row_as_full_screen_section=”no” type=”full_width” angled_section=”no” text_align=”left” background_image_as_pattern=”without_pattern”][vc_column width=”1/3″][/vc_column][vc_column width=”1/3″][vc_column_text] \ne·mer·gent /əˈmərjənt/\nadjective: in the process of coming into being; calling for prompt action \n[/vc_column_text][/vc_column][vc_column width=”1/3″][/vc_column][/vc_row][vc_row css_animation=”” row_type=”row” use_row_as_full_screen_section=”no” type=”full_width” angled_section=”no” text_align=”left” background_image_as_pattern=”without_pattern”][vc_column][vc_empty_space height=”25px”][vc_separator type=”normal” color=”#732121″ thickness=”1″ up=”10″ down=”30″][/vc_column][/vc_row][vc_row css_animation=”” row_type=”row” use_row_as_full_screen_section=”no” type=”full_width” angled_section=”no” text_align=”left” background_image_as_pattern=”without_pattern” z_index=”” padding_top=”20px” padding_bottom=”20px”][vc_column width=”1/2″][vc_empty_space height=”10″][vc_column_text] \nMore about emergent \n[/vc_column_text][vc_separator type=”small” position=”center” color=”#732121″ thickness=”1″ up=”15″ down=”15″][vc_column_text] \nemergent concert narrative \nemergent photographs \n[/vc_column_text][vc_empty_space height=”25px”][/vc_column][vc_column width=”1/2″][vc_empty_space height=”10″][vc_column_text] \nemergent Tour Dates \n[/vc_column_text][vc_separator type=”small” position=”center” color=”#732121″ thickness=”1″ up=”15″ down=”15″][vc_column_text] \nJanuary 25\nUniversity of Notre Dame \nCANCELED – March 29\nSchaumburg\, IL \nCANCELED – April 17\nLittle Rock\, AR – Postponed \nOctober 17\nDavenport\, IA \n[/vc_column_text][vc_empty_space height=”25px”][/vc_column][/vc_row][vc_row css_animation=”” row_type=”row” use_row_as_full_screen_section=”no” type=”full_width” angled_section=”no” text_align=”left” background_image_as_pattern=”without_pattern” z_index=””][vc_column][vc_separator type=”normal” color=”#732121″ thickness=”1″ up=”10″ down=”30″][vc_empty_space height=”25px”][/vc_column][/vc_row]
URL:https://www.hoetsu.org/event/davenport-ia-10172020/
LOCATION:TBA
CATEGORIES:Concert,Performance,schedule
ATTACH;FMTTYPE=image/jpeg:https://www.hoetsu.org/wp-content/uploads/2020/01/Event-October-17.jpg
END:VEVENT
BEGIN:VEVENT
DTSTART;VALUE=DATE:20200417
DTEND;VALUE=DATE:20200418
DTSTAMP:20260424T223113
CREATED:20200206T171242Z
LAST-MODIFIED:20200316T160909Z
UID:20727-1587081600-1587167999@www.hoetsu.org
SUMMARY:CANCELED: "EMERGENT" - Little Rock\, AR
DESCRIPTION:[vc_row css_animation=”” row_type=”row” use_row_as_full_screen_section=”no” type=”full_width” angled_section=”no” text_align=”left” background_image_as_pattern=”without_pattern”][vc_column][vc_separator type=”normal” color=”#732121″ down=”35″][vc_column_text] \nHo Etsu Taiko\n[/vc_column_text][vc_column_text][/vc_column_text][vc_column_text][/vc_column_text][vc_empty_space height=”20px”][vc_column_text][/vc_column_text][vc_separator type=”small” position=”center” color=”#732121″ down=”25″ up=”20″][vc_column_text] \nThe organizers have postponed the Jerome/Rowher Pilgrimage and plan to reschedule.  Please check the following link for information about the future schedule: Japanese American Memorial Pilgrimages. \n[/vc_column_text][vc_empty_space height=”20px”][vc_single_image image=”20610″ img_size=”200×78″ alignment=”center” qode_css_animation=””][vc_empty_space height=”20px”][/vc_column][/vc_row][vc_row css_animation=”” row_type=”row” use_row_as_full_screen_section=”no” type=”full_width” angled_section=”no” text_align=”left” background_image_as_pattern=”without_pattern”][vc_column width=”1/3″][/vc_column][vc_column width=”1/3″][vc_column_text] \ne·mer·gent /əˈmərjənt/\nadjective: in the process of coming into being; calling for prompt action \n[/vc_column_text][/vc_column][vc_column width=”1/3″][/vc_column][/vc_row][vc_row css_animation=”” row_type=”row” use_row_as_full_screen_section=”no” type=”full_width” angled_section=”no” text_align=”left” background_image_as_pattern=”without_pattern”][vc_column][vc_empty_space height=”20px”][vc_separator type=”normal” color=”#732121″ down=”35″ up=”35″][/vc_column][/vc_row][vc_row css_animation=”” row_type=”row” use_row_as_full_screen_section=”no” type=”full_width” angled_section=”no” text_align=”left” background_image_as_pattern=”without_pattern”][vc_column width=”1/2″][vc_column_text] \nMore about emergent \n[/vc_column_text][vc_separator type=”small” position=”center” width_in_percentages=”yes” color=”#732121″ thickness=”1″ up=”15″ down=”15″ width=”25″][vc_column_text] \nemergent concert narrative \nemergent photographs \n[/vc_column_text][/vc_column][vc_column width=”1/2″][vc_column_text] \nemergent Tour Dates \n[/vc_column_text][vc_separator type=”small” position=”center” width_in_percentages=”yes” color=”#732121″ thickness=”1″ up=”15″ down=”15″ width=”25″][vc_column_text] \nJanuary 25\nUniversity of Notre Dame \nCANCELED – March 29\nSchaumburg\, IL \nCANCELED – April 17\nLittle Rock\, AR \nOctober 17\nDavenport\, IA \n[/vc_column_text][/vc_column][/vc_row][vc_row css_animation=”” row_type=”row” use_row_as_full_screen_section=”no” type=”full_width” angled_section=”no” text_align=”left” background_image_as_pattern=”without_pattern”][vc_column][vc_separator type=”normal” color=”#732121″ down=”35″ up=”35″][/vc_column][/vc_row]
URL:https://www.hoetsu.org/event/rowher-2020/
LOCATION:Arkansas Repertory Theatre – Annex\, AR\, United States
CATEGORIES:Concert,Performance,schedule
ATTACH;FMTTYPE=image/jpeg:https://www.hoetsu.org/wp-content/uploads/2020/02/jerome-rowher-feature-image-post-final.jpg
END:VEVENT
BEGIN:VEVENT
DTSTART;TZID=America/Chicago:20200329T150000
DTEND;TZID=America/Chicago:20200329T170000
DTSTAMP:20260424T223113
CREATED:20190907T161111Z
LAST-MODIFIED:20200412T150604Z
UID:20398-1585494000-1585501200@www.hoetsu.org
SUMMARY:CANCELED: "EMERGENT" - Prairie Center for the Arts
DESCRIPTION:[vc_row css_animation=”” row_type=”row” use_row_as_full_screen_section=”no” type=”full_width” angled_section=”no” text_align=”center” background_image_as_pattern=”without_pattern” z_index=””][vc_column][vc_separator type=”normal” color=”#732121″ up=”25″ down=”35″][vc_column_text css=”.vc_custom_1584406182581{border-top-width: 2px !important;border-right-width: 2px !important;border-bottom-width: 2px !important;border-left-width: 2px !important;padding-top: 20px !important;padding-right: 20px !important;padding-bottom: 20px !important;padding-left: 20px !important;border-left-color: #732121 !important;border-left-style: solid !important;border-right-color: #732121 !important;border-right-style: solid !important;border-top-color: #732121 !important;border-top-style: solid !important;border-bottom-color: #732121 !important;border-bottom-style: solid !important;border-radius: 2px !important;}”] \nIn the interest of social responsibility and doing what we can to help keep the community safe from coronavirus (COVID-19)\, we’ve decided to cancel our March 29 performance of emergent at the Prairie Arts Center in Schaumburg\, IL. All ticket holders will be refunded (we appreciate your patience as it may take a little time). We’ll keep you updated on when our 2020 tour will resume. \n  \nFollow this link to the Village of Schaumburg Prairie Center for refund information. \n[/vc_column_text][vc_empty_space height=”20″][/vc_column][/vc_row][vc_row css_animation=”” row_type=”row” use_row_as_full_screen_section=”no” type=”full_width” angled_section=”no” text_align=”left” background_image_as_pattern=”without_pattern”][vc_column][vc_single_image image=”20608″ img_size=”200×108″ alignment=”center” qode_css_animation=””][vc_empty_space height=”20″][vc_column_text] \ne·mer·gent /əˈmərjənt/\nadjective: in the process of coming into being; calling for prompt action \n[/vc_column_text][vc_separator type=”normal” color=”#732121″ up=”35″ down=”35″][/vc_column][/vc_row][vc_row css_animation=”” row_type=”row” use_row_as_full_screen_section=”no” type=”full_width” angled_section=”no” text_align=”left” background_image_as_pattern=”without_pattern”][vc_column width=”1/2″][vc_column_text] \nMore about emergent \n[/vc_column_text][vc_separator type=”small” position=”center” width_in_percentages=”yes” color=”#732121″ up=”15″ down=”15″ thickness=”1″ width=”25″][vc_column_text] \nemergent concert narrative \nemergent photographs \n[/vc_column_text][/vc_column][vc_column width=”1/2″][vc_column_text] \nemergent Tour Dates \n[/vc_column_text][vc_separator type=”small” position=”center” width_in_percentages=”yes” color=”#732121″ up=”15″ down=”15″ thickness=”1″ width=”25″][vc_column_text] \nJanuary 25\nUniversity of Notre Dame \nCANCELED – March 29\nSchaumburg\, IL \nCANCELED – April 17\nLittle Rock\, AR \nOctober 17\nDavenport\, IA \n[/vc_column_text][/vc_column][/vc_row][vc_row css_animation=”” row_type=”row” use_row_as_full_screen_section=”no” type=”full_width” angled_section=”no” text_align=”left” background_image_as_pattern=”without_pattern”][vc_column][vc_separator type=”normal” color=”#732121″ up=”35″ down=”35″][/vc_column][/vc_row]
URL:https://www.hoetsu.org/event/prairie-center-march-2020/
LOCATION:Al Larson Prairie Center for the Arts\, 201 Schaumburg Ct.\, Schaumburg\, IL\, 60193\, United States
CATEGORIES:Concert,Performance,schedule
ATTACH;FMTTYPE=image/jpeg:https://www.hoetsu.org/wp-content/uploads/2019/09/Event-March-29.jpg
END:VEVENT
BEGIN:VEVENT
DTSTART;TZID=America/New_York:20200125T190000
DTEND;TZID=America/New_York:20200125T203000
DTSTAMP:20260424T223113
CREATED:20191213T165325Z
LAST-MODIFIED:20200412T150740Z
UID:20509-1579978800-1579984200@www.hoetsu.org
SUMMARY:Ho Etsu Concert "EMERGENT" - University of Notre Dame
DESCRIPTION:To kick off our 2020 tour of great Mid-West performance venues\, we’ve been invited by the Japan Club of Notre Dame to perform in the university’s beautiful Patricia George Decio Theater on January 25\, 2020 at 7:00 PM EST. The event is co-sponsored by the Liu Institute for Asia and Asia Studies\, International Student and Scholar Affairs\, and the Department of East Asian Languages and Cultures. Ho Etsu will debut its original concert “EMERGENT”. \n \nTHIS CONCERT IS OVERFOR MORE INFORMATION ABOUT emergent INCLUDING MORE TOUR DATES VISIT: \nemergent concert narrative \n 
URL:https://www.hoetsu.org/event/notre-dame-jan-2020/
LOCATION:Patricia George Decio Theater\, 100 Performing Arts Center\, Notre Dame\,\, IN\, 46556\, United States
CATEGORIES:Concert,Performance,schedule
ATTACH;FMTTYPE=image/jpeg:https://www.hoetsu.org/wp-content/uploads/2019/12/2019-ND-Banner.jpg
END:VEVENT
END:VCALENDAR